BEGIN:VCALENDAR
VERSION:2.0
PRODID:-//BCBSM Leadership Development Association - ECPv5.14.2.1//NONSGML v1.0//EN
CALSCALE:GREGORIAN
METHOD:PUBLISH
X-WR-CALNAME:BCBSM Leadership Development Association
X-ORIGINAL-URL:https://nma1.org/141
X-WR-CALDESC:Events for BCBSM Leadership Development Association
BEGIN:VTIMEZONE
TZID:UTC
BEGIN:STANDARD
TZOFFSETFROM:+0000
TZOFFSETTO:+0000
TZNAME:UTC
DTSTART:20200101T000000
END:STANDARD
END:VTIMEZONE
BEGIN:VEVENT
DTSTART;TZID=UTC:20201003T090000
DTEND;TZID=UTC:20201003T120000
DTSTAMP:20260420T090619
CREATED:20200902T202019Z
LAST-MODIFIED:20200902T202019Z
UID:1037-1601715600-1601726400@nma1.org
SUMMARY:Community Involvement Event - Adopt a Highway
DESCRIPTION:The BCBSM LDA offers opportunities to give back to the community. \nFor this event we will be participating the “Adopt a Highway” initiative. We will be meeting in the shopping plaza parking lot on the south side corner of Woodward and 12 Mile Road in Detroit\, Mi. \nPlease use this link to register for this event. \nContact Terrance Puryear\, Community Involvement Chairperson for more information.
URL:https://nma1.org/141/event/community-involvement-event-adopt-a-highway/
CATEGORIES:Community Involvement,Networking
ATTACH;FMTTYPE=image/jpeg:https://nma1.org/141/wp-content/uploads/2020/09/communityInvolvement10032020.jpg
ORGANIZER;CN="Terrance%20Puryear%2C%20Public%20Relations%20VP":MAILTO:TPuryear@bcbsm.com
END:VEVENT
END:VCALENDAR