BEGIN:VCALENDAR
VERSION:2.0
PRODID:-//BCBSM Leadership Development Association - ECPv5.14.2.1//NONSGML v1.0//EN
CALSCALE:GREGORIAN
METHOD:PUBLISH
X-WR-CALNAME:BCBSM Leadership Development Association
X-ORIGINAL-URL:https://nma1.org/141
X-WR-CALDESC:Events for BCBSM Leadership Development Association
BEGIN:VTIMEZONE
TZID:UTC
BEGIN:STANDARD
TZOFFSETFROM:+0000
TZOFFSETTO:+0000
TZNAME:UTC
DTSTART:20200101T000000
END:STANDARD
END:VTIMEZONE
BEGIN:VEVENT
DTSTART;TZID=UTC:20200610T163000
DTEND;TZID=UTC:20200610T200000
DTSTAMP:20260424T042509
CREATED:20200120T203037Z
LAST-MODIFIED:20200120T203037Z
UID:825-1591806600-1591819200@nma1.org
SUMMARY:June Membership Meeting featuring Daniel J. Loepp
DESCRIPTION:June membership meeting featuring a keynote from BCBSM President and CEO Daniel J. Loepp. \n\n4:30 pm: Registration and networking begins\n5:15 pm: Meeting begins with opening remarks by BCBSM LDA President\, Tory Niceswander\n5:25 pm: Presentation by speaker BCBSM President and CEO Daniel J. Loepp begins\n6:00pm: Awards presentation\n6:30 pm: Announcements\, meeting wrap up\, dinner
URL:https://nma1.org/141/event/june-membership-meeting-featuring-daniel-j-loepp/
LOCATION:The Gem Theater\, 333 Madison Street\, Detroit\, MI\, 48226\, United States
END:VEVENT
END:VCALENDAR