BEGIN:VCALENDAR
VERSION:2.0
PRODID:-//BCBSM Leadership Development Association - ECPv5.14.2.1//NONSGML v1.0//EN
CALSCALE:GREGORIAN
METHOD:PUBLISH
X-WR-CALNAME:BCBSM Leadership Development Association
X-ORIGINAL-URL:https://nma1.org/141
X-WR-CALDESC:Events for BCBSM Leadership Development Association
BEGIN:VTIMEZONE
TZID:UTC
BEGIN:STANDARD
TZOFFSETFROM:+0000
TZOFFSETTO:+0000
TZNAME:UTC
DTSTART:20190101T000000
END:STANDARD
END:VTIMEZONE
BEGIN:VEVENT
DTSTART;TZID=UTC:20191015T120000
DTEND;TZID=UTC:20191015T130000
DTSTAMP:20260424T121813
CREATED:20191001T192444Z
LAST-MODIFIED:20191001T192444Z
UID:744-1571140800-1571144400@nma1.org
SUMMARY:Lunch & Learn Business Workshop 2019
DESCRIPTION:
URL:https://nma1.org/141/event/lunch-learn-business-workshop-2019/
LOCATION:Dining Room B (Skype will be available; attending in person is highly suggested)
CATEGORIES:Lunch and Learn
END:VEVENT
END:VCALENDAR