BEGIN:VCALENDAR
VERSION:2.0
PRODID:-//BCBSM Leadership Development Association - ECPv5.14.2.1//NONSGML v1.0//EN
CALSCALE:GREGORIAN
METHOD:PUBLISH
X-WR-CALNAME:BCBSM Leadership Development Association
X-ORIGINAL-URL:https://nma1.org/141
X-WR-CALDESC:Events for BCBSM Leadership Development Association
BEGIN:VTIMEZONE
TZID:UTC
BEGIN:STANDARD
TZOFFSETFROM:+0000
TZOFFSETTO:+0000
TZNAME:UTC
DTSTART:20200101T000000
END:STANDARD
END:VTIMEZONE
BEGIN:VEVENT
DTSTART;TZID=UTC:20200326T163000
DTEND;TZID=UTC:20200326T200000
DTSTAMP:20260424T091457
CREATED:20200120T201555Z
LAST-MODIFIED:20200120T203332Z
UID:813-1585240200-1585252800@nma1.org
SUMMARY:March Membership Meeting featuring Bob Crawford
DESCRIPTION:March membership meeting featuring a keynote from BCBSM Vice President of Corporate Marketing and Customer Experience Bob Crawford. \n\n4:30 pm: Registration and networking begins\n5:15 pm: Meeting begins with opening remarks by BCBSM LDA President\, Tory Niceswander\n5:25 pm: Presentation by speaker Bob Crawford begins\n6:30 pm: Announcements\, meeting wrap up\, dinner
URL:https://nma1.org/141/event/march-membership-meeting/
LOCATION:The Mint at Michigan First Conference Center\, 27000 Evergreen Road\, Lathrup Village\, MI\, 48076\, United States
CATEGORIES:Membership meeting
END:VEVENT
END:VCALENDAR