BEGIN:VCALENDAR
VERSION:2.0
PRODID:-//BCBSM Leadership Development Association - ECPv5.14.2.1//NONSGML v1.0//EN
CALSCALE:GREGORIAN
METHOD:PUBLISH
X-WR-CALNAME:BCBSM Leadership Development Association
X-ORIGINAL-URL:https://nma1.org/141
X-WR-CALDESC:Events for BCBSM Leadership Development Association
BEGIN:VTIMEZONE
TZID:UTC
BEGIN:STANDARD
TZOFFSETFROM:+0000
TZOFFSETTO:+0000
TZNAME:UTC
DTSTART:20200101T000000
END:STANDARD
END:VTIMEZONE
BEGIN:VEVENT
DTSTART;TZID=UTC:20201119T120000
DTEND;TZID=UTC:20201119T130000
DTSTAMP:20260420T120019
CREATED:20201109T145623Z
LAST-MODIFIED:20201109T145623Z
UID:1086-1605787200-1605790800@nma1.org
SUMMARY:Monthly Membership Virtual Meeting
DESCRIPTION:Take advantage of this great opportunity to meet and network virtually with others while learning about leadership! \nThis month we will meet with Senior Vice President of Human Resources for Emergent Holdings\, Darcy Kerr. \nThere will be a giveaway for a one-hour mentoring session with Darcy. There will also be a giveaway for two professional books. \nRegister for this event here. \n 
URL:https://nma1.org/141/event/monthly-membership-virtual-meeting-3/
LOCATION:WebEx Meeting
CATEGORIES:Membership meeting
ATTACH;FMTTYPE=image/jpeg:https://nma1.org/141/wp-content/uploads/2020/11/membershipMeeting11192020.jpg
ORGANIZER;CN="Heidi%20Saucier%2C%20VP%20of%20Program%20Administration":MAILTO:HSaucier@bcbsm.com
END:VEVENT
END:VCALENDAR