BEGIN:VCALENDAR
VERSION:2.0
PRODID:-//BCBSM Leadership Development Association - ECPv5.14.2.1//NONSGML v1.0//EN
CALSCALE:GREGORIAN
METHOD:PUBLISH
X-WR-CALNAME:BCBSM Leadership Development Association
X-ORIGINAL-URL:https://nma1.org/141
X-WR-CALDESC:Events for BCBSM Leadership Development Association
BEGIN:VTIMEZONE
TZID:UTC
BEGIN:STANDARD
TZOFFSETFROM:+0000
TZOFFSETTO:+0000
TZNAME:UTC
DTSTART:20190101T000000
END:STANDARD
END:VTIMEZONE
BEGIN:VEVENT
DTSTART;TZID=UTC:20190603T080000
DTEND;TZID=UTC:20190603T170000
DTSTAMP:20260424T163831
CREATED:20190603T205421Z
LAST-MODIFIED:20190603T205421Z
UID:92-1559548800-1559581200@nma1.org
SUMMARY:NMA Monthly Membership Meeting
DESCRIPTION:Speaker:\nDaniel J. Loepp \nPresident and CEO\, Blue Cross \nBlue Shield of Michigan \nLocation: The Fillmore Detroit  \n2115 Woodward Ave\, Detroit\, MI 48201 \nRegistration and Networking: 4:30 p.m. \nProgram to begin at 5:15 p.m. \n  \n 
URL:https://nma1.org/141/event/nma-monthly-membership-meeting/
END:VEVENT
END:VCALENDAR