BEGIN:VCALENDAR
VERSION:2.0
PRODID:-//BCBSM Leadership Development Association - ECPv5.14.2.1//NONSGML v1.0//EN
CALSCALE:GREGORIAN
METHOD:PUBLISH
X-WR-CALNAME:BCBSM Leadership Development Association
X-ORIGINAL-URL:https://nma1.org/141
X-WR-CALDESC:Events for BCBSM Leadership Development Association
BEGIN:VTIMEZONE
TZID:UTC
BEGIN:STANDARD
TZOFFSETFROM:+0000
TZOFFSETTO:+0000
TZNAME:UTC
DTSTART:20190101T000000
END:STANDARD
END:VTIMEZONE
BEGIN:VEVENT
DTSTART;TZID=UTC:20190928T083000
DTEND;TZID=UTC:20190928T110000
DTSTAMP:20260424T134837
CREATED:20190922T204359Z
LAST-MODIFIED:20190922T204359Z
UID:652-1569659400-1569668400@nma1.org
SUMMARY:September Adopt-A-Highway
DESCRIPTION:
URL:https://nma1.org/141/event/september-adopt-a-highway/
LOCATION:Woodward Ave at 12 Mile Rd
CATEGORIES:Community Involvement
END:VEVENT
END:VCALENDAR