BEGIN:VCALENDAR
VERSION:2.0
PRODID:-//BCBSM Leadership Development Association - ECPv5.14.2.1//NONSGML v1.0//EN
CALSCALE:GREGORIAN
METHOD:PUBLISH
X-WR-CALNAME:BCBSM Leadership Development Association
X-ORIGINAL-URL:https://nma1.org/141
X-WR-CALDESC:Events for BCBSM Leadership Development Association
BEGIN:VTIMEZONE
TZID:UTC
BEGIN:STANDARD
TZOFFSETFROM:+0000
TZOFFSETTO:+0000
TZNAME:UTC
DTSTART:20200101T000000
END:STANDARD
END:VTIMEZONE
BEGIN:VEVENT
DTSTART;TZID=UTC:20201022T120000
DTEND;TZID=UTC:20201022T130000
DTSTAMP:20260424T114508
CREATED:20201008T122055Z
LAST-MODIFIED:20201008T122055Z
UID:1054-1603368000-1603371600@nma1.org
SUMMARY:BlueNights Mixer
DESCRIPTION:The BCBSM LDA provides fun networking opportunities through our BlueNightssm mixers. \nThe theme of our next mixer event is “Virtual Musical Bingo” and will be co-hosted by BCBSM LDA and the Multicultural ERN. \nSpace is limited so register today! \nExecutive Sponsor: Sharon Gipson\, VP Enterprise Audit
URL:https://nma1.org/141/event/bluenights-mixer-2/
LOCATION:Zoom Meeting
CATEGORIES:Blue Mixer
ATTACH;FMTTYPE=image/jpeg:https://nma1.org/141/wp-content/uploads/2020/10/BlueNightsMixer10222020.jpg
ORGANIZER;CN="DeAndre%20Elliot":MAILTO:DElliott@bcbsm.com
END:VEVENT
END:VCALENDAR