BEGIN:VCALENDAR
VERSION:2.0
PRODID:-//BCBSM Leadership Development Association - ECPv5.14.2.1//NONSGML v1.0//EN
CALSCALE:GREGORIAN
METHOD:PUBLISH
X-WR-CALNAME:BCBSM Leadership Development Association
X-ORIGINAL-URL:https://nma1.org/141
X-WR-CALDESC:Events for BCBSM Leadership Development Association
BEGIN:VTIMEZONE
TZID:UTC
BEGIN:STANDARD
TZOFFSETFROM:+0000
TZOFFSETTO:+0000
TZNAME:UTC
DTSTART:20210101T000000
END:STANDARD
END:VTIMEZONE
BEGIN:VEVENT
DTSTART;TZID=UTC:20211207T120000
DTEND;TZID=UTC:20211207T130000
DTSTAMP:20260422T222004
CREATED:20220120T165625Z
LAST-MODIFIED:20220120T165625Z
UID:1360-1638878400-1638882000@nma1.org
SUMMARY:PD December Book Club - Intentional Leadership: 12 Lenses for Focusing Strengths\, Managing Weaknesses\, and Achieving Your Purpose\, By Jane A. G. Kise – Chapters 7 & 8
DESCRIPTION:Join the professional development committee for the third book club meeting of the year! Over the course of the next several months\, we will be reading and discussing Intentional Leadership: 12 Lenses for Focusing Strengths\, Managing Weaknesses\, and Achieving Your Purpose by Jane A. G. Kise. This month\, we will review the activities from Chapters 7 & 8 in depth. \nIf you have not already done so\, you can purchase the book on Amazon or any preferred method. If you have any questions\, feel free to contact Veronica Beasley-Robinson (VBeasley-Robinson@bcbsm.com). \nWe look forward to your participation!
URL:https://nma1.org/141/event/pd-december-book-club-intentional-leadership-12-lenses-for-focusing-strengths-managing-weaknesses-and-achieving-your-purpose-by-jane-a-g-kise-chapters-7-8/
LOCATION:Teams
CATEGORIES:Book Club,Lunch and Learn,Professional Development
ORGANIZER;CN="Veronica%20Beasley-Robinson":MAILTO:vbeasley-robinson@bcbsm.com
END:VEVENT
END:VCALENDAR