BEGIN:VCALENDAR
VERSION:2.0
PRODID:-//BCBSM Leadership Development Association - ECPv5.14.2.1//NONSGML v1.0//EN
CALSCALE:GREGORIAN
METHOD:PUBLISH
X-WR-CALNAME:BCBSM Leadership Development Association
X-ORIGINAL-URL:https://nma1.org/141
X-WR-CALDESC:Events for BCBSM Leadership Development Association
BEGIN:VTIMEZONE
TZID:UTC
BEGIN:STANDARD
TZOFFSETFROM:+0000
TZOFFSETTO:+0000
TZNAME:UTC
DTSTART:20200101T000000
END:STANDARD
END:VTIMEZONE
BEGIN:VEVENT
DTSTART;TZID=UTC:20200917T150000
DTEND;TZID=UTC:20200917T160000
DTSTAMP:20260424T013130
CREATED:20200902T184900Z
LAST-MODIFIED:20200902T192716Z
UID:1015-1600354800-1600358400@nma1.org
SUMMARY:Professional Development Webinar - Mastering the Millennial Mindset
DESCRIPTION:Each month\, the BCBSM Leadership Development Association provides professional development opportunities on a variety of topics. This month’s topic is “Mastering the Millennial Mindset: How to Attract and Retain Emerging Leaders” and will be presented by Lisa Ryan\, President of Grategy. \nThis event will take place via Zoom. Please register using this link. \nContact Charles Schultz\, VP of Professional Development for more information. \nLisa Ryan\, President of Grategy
URL:https://nma1.org/141/event/professional-development-webinar-mastering-the-millennial-mindset/
LOCATION:Zoom Meeting
CATEGORIES:Professional Development
ATTACH;FMTTYPE=image/jpeg:https://nma1.org/141/wp-content/uploads/2020/09/event09172020.jpg
ORGANIZER;CN="Charles%20Schultz%2C%20VP%20of%20Professional%20Development":MAILTO:CSchultz@bcbsm.com
END:VEVENT
END:VCALENDAR