BEGIN:VCALENDAR
VERSION:2.0
PRODID:-//BCBSM Leadership Development Association - ECPv5.14.2.1//NONSGML v1.0//EN
CALSCALE:GREGORIAN
METHOD:PUBLISH
X-WR-CALNAME:BCBSM Leadership Development Association
X-ORIGINAL-URL:https://nma1.org/141
X-WR-CALDESC:Events for BCBSM Leadership Development Association
BEGIN:VTIMEZONE
TZID:UTC
BEGIN:STANDARD
TZOFFSETFROM:+0000
TZOFFSETTO:+0000
TZNAME:UTC
DTSTART:20220101T000000
END:STANDARD
END:VTIMEZONE
BEGIN:VEVENT
DTSTART;TZID=UTC:20220215T120000
DTEND;TZID=UTC:20220215T130000
DTSTAMP:20260423T022437
CREATED:20220120T161350Z
LAST-MODIFIED:20220203T130610Z
UID:1350-1644926400-1644930000@nma1.org
SUMMARY:Pursuing happiness: My journey from practicing physician to health plan executive
DESCRIPTION:Aaron Friedkin will discuss his non-traditional journey through life and career with lessons learned along the way\, including the importance of understanding your “why.” Aaron will share stories about some of the most important transitions in his career with the hope that his perspective and experience can serve as an additional input and point of reference as you think about how you can pursue happiness throughout your lives.  
URL:https://nma1.org/141/event/pursuing-happiness-my-journey-from-practicing-physician-to-health-plan-executive/
LOCATION:Teams
CATEGORIES:Membership meeting,Professional Development
ATTACH;FMTTYPE=image/jpeg:https://nma1.org/141/wp-content/uploads/2022/01/pursuingHappiness021522.jpg
ORGANIZER;CN="Sarah%20Cheaito":MAILTO:scheaito@bcbsm.com
END:VEVENT
END:VCALENDAR