BEGIN:VCALENDAR
VERSION:2.0
PRODID:-//BCBSM Leadership Development Association - ECPv5.14.2.1//NONSGML v1.0//EN
CALSCALE:GREGORIAN
METHOD:PUBLISH
X-WR-CALNAME:BCBSM Leadership Development Association
X-ORIGINAL-URL:https://nma1.org/141
X-WR-CALDESC:Events for BCBSM Leadership Development Association
BEGIN:VTIMEZONE
TZID:UTC
BEGIN:STANDARD
TZOFFSETFROM:+0000
TZOFFSETTO:+0000
TZNAME:UTC
DTSTART:20220101T000000
END:STANDARD
END:VTIMEZONE
BEGIN:VEVENT
DTSTART;TZID=UTC:20220526T120000
DTEND;TZID=UTC:20220526T130000
DTSTAMP:20260422T222230
CREATED:20220513T120107Z
LAST-MODIFIED:20220513T120107Z
UID:1466-1653566400-1653570000@nma1.org
SUMMARY:BlueNights Mixer
DESCRIPTION:Terrance Puryear will facilitate a discussion on readiness and resilience.
URL:https://nma1.org/141/event/bluenights-mixer-3/
LOCATION:Teams
CATEGORIES:Blue Mixer,Lunch and Learn,Networking,Professional Development
ATTACH;FMTTYPE=image/jpeg:https://nma1.org/141/wp-content/uploads/2022/05/BlueNights052622.jpg
ORGANIZER;CN="Tiffany%20Darby%2C%20Community%20Involvement%20Chairperson":MAILTO:tdarby@bcbsm.com
END:VEVENT
END:VCALENDAR